BEGIN:VCALENDAR
VERSION:2.0
PRODID:spatie/icalendar-generator
DESCRIPTION:Évènements de Cercle Nautique du Touquet
X-WR-CALDESC:Évènements de Cercle Nautique du Touquet
REFRESH-INTERVAL;VALUE=DURATION:PT1440M
X-PUBLISHED-TTL:PT1440M
BEGIN:VTIMEZONE
TZID:Europe/Paris
BEGIN:STANDARD
DTSTART:20251026T030000Z
TZOFFSETFROM:+0200
TZOFFSETTO:+0100
END:STANDARD
BEGIN:DAYLIGHT
DTSTART:20260329T020000Z
TZOFFSETFROM:+0100
TZOFFSETTO:+0200
END:DAYLIGHT
BEGIN:STANDARD
DTSTART:20261025T030000Z
TZOFFSETFROM:+0200
TZOFFSETTO:+0100
END:STANDARD
END:VTIMEZONE
BEGIN:VTIMEZONE
TZID:UTC
BEGIN:STANDARD
DTSTART:20250730T003400Z
TZOFFSETFROM:+0000
TZOFFSETTO:+0000
END:STANDARD
END:VTIMEZONE
BEGIN:VEVENT
UID:61-31
DTSTAMP:20260426T003400Z
SUMMARY:Barbecue\, Soirée au CNT
LOCATION:Cercle Nautique du Touquet 1 rue Jean Ruet  Le touquet Paris plage
   62520
ORGANIZER;CN=Skipper:MAILTO:eric.berrezay@cercle-nautique-du-touquet.org
DTSTART;TZID=Europe/Paris:20260502T180000
DTEND;TZID=Europe/Paris:20260502T235300
X-ALT-DESC;FMTTYPE=TEXT/HTML:
CATEGORIES:Club
URL;VALUE=URI:https://cercle-nautique-du-touquet.org/index.php/my-calendar/
 ?mc_id=61&#038;vcal=61
METHOD:PUBLISH
END:VEVENT
END:VCALENDAR